BEGIN:VCALENDAR
VERSION:2.0
PRODID:-//Gold River Chapel - ECPv6.15.20//NONSGML v1.0//EN
CALSCALE:GREGORIAN
METHOD:PUBLISH
X-WR-CALNAME:Gold River Chapel
X-ORIGINAL-URL:https://goldrivercalvarychapel.com
X-WR-CALDESC:Events for Gold River Chapel
REFRESH-INTERVAL;VALUE=DURATION:PT1H
X-Robots-Tag:noindex
X-PUBLISHED-TTL:PT1H
BEGIN:VTIMEZONE
TZID:UTC
BEGIN:STANDARD
TZOFFSETFROM:+0000
TZOFFSETTO:+0000
TZNAME:UTC
DTSTART:20210101T000000
END:STANDARD
END:VTIMEZONE
BEGIN:VEVENT
DTSTART;TZID=UTC:20220504T180000
DTEND;TZID=UTC:20220504T180000
DTSTAMP:20260424T035543
CREATED:20220331T213739Z
LAST-MODIFIED:20220331T213739Z
UID:10000201-1651687200-1651687200@goldrivercalvarychapel.com
SUMMARY:Mid Week BIBLE STUDY
DESCRIPTION:Join us each Wednesday at 6 pm for a lite meal and fellowship\, and at 6:30 with worship and teaching.
URL:https://goldrivercalvarychapel.com/event/mid-week-bible-study-10/
LOCATION:GRCC\, 11285 Pyrites Way\, Gold River\, CA\, 95670
CATEGORIES:Mid-Week Bible Study
END:VEVENT
BEGIN:VEVENT
DTSTART;TZID=UTC:20220511T180000
DTEND;TZID=UTC:20220511T180000
DTSTAMP:20260424T035544
CREATED:20220331T213807Z
LAST-MODIFIED:20220331T213807Z
UID:10000202-1652292000-1652292000@goldrivercalvarychapel.com
SUMMARY:Mid Week BIBLE STUDY
DESCRIPTION:Join us each Wednesday at 6 pm for a lite meal and fellowship\, and at 6:30 with worship and teaching.
URL:https://goldrivercalvarychapel.com/event/mid-week-bible-study-11/
LOCATION:GRCC\, 11285 Pyrites Way\, Gold River\, CA\, 95670
CATEGORIES:Mid-Week Bible Study
END:VEVENT
BEGIN:VEVENT
DTSTART;TZID=UTC:20220518T180000
DTEND;TZID=UTC:20220518T180000
DTSTAMP:20260424T035544
CREATED:20220331T213839Z
LAST-MODIFIED:20220331T213839Z
UID:10000203-1652896800-1652896800@goldrivercalvarychapel.com
SUMMARY:Mid Week BIBLE STUDY
DESCRIPTION:Join us each Wednesday at 6 pm for a lite meal and fellowship\, and at 6:30 with worship and teaching.
URL:https://goldrivercalvarychapel.com/event/mid-week-bible-study-12/
LOCATION:GRCC\, 11285 Pyrites Way\, Gold River\, CA\, 95670
CATEGORIES:Mid-Week Bible Study
END:VEVENT
BEGIN:VEVENT
DTSTART;TZID=UTC:20220525T180000
DTEND;TZID=UTC:20220525T180000
DTSTAMP:20260424T035544
CREATED:20220331T213904Z
LAST-MODIFIED:20220331T213904Z
UID:10000204-1653501600-1653501600@goldrivercalvarychapel.com
SUMMARY:Mid Week BIBLE STUDY
DESCRIPTION:Join us each Wednesday at 6 pm for a lite meal and fellowship\, and at 6:30 with worship and teaching.
URL:https://goldrivercalvarychapel.com/event/mid-week-bible-study-13/
LOCATION:GRCC\, 11285 Pyrites Way\, Gold River\, CA\, 95670
CATEGORIES:Mid-Week Bible Study
END:VEVENT
END:VCALENDAR